BEGIN:VCALENDAR
VERSION:2.0
PRODID:-//Kinderladen ☀ Sol e.V. - ECPv6.15.17.1//NONSGML v1.0//EN
CALSCALE:GREGORIAN
METHOD:PUBLISH
X-WR-CALNAME:Kinderladen ☀ Sol e.V.
X-ORIGINAL-URL:http://solev.org
X-WR-CALDESC:Veranstaltungen für Kinderladen ☀ Sol e.V.
REFRESH-INTERVAL;VALUE=DURATION:PT1H
X-Robots-Tag:noindex
X-PUBLISHED-TTL:PT1H
BEGIN:VTIMEZONE
TZID:UTC
BEGIN:STANDARD
TZOFFSETFROM:+0000
TZOFFSETTO:+0000
TZNAME:UTC
DTSTART:20250101T000000
END:STANDARD
END:VTIMEZONE
BEGIN:VEVENT
DTSTART;TZID=UTC:20260404T000000
DTEND;TZID=UTC:20260404T235959
DTSTAMP:20260419T143733
CREATED:20260324T123103Z
LAST-MODIFIED:20260324T123103Z
UID:4103-1775260800-1775347199@solev.org
SUMMARY:Yaro (Putzdienst Blau)
DESCRIPTION:
URL:http://solev.org/event/yaro-putzdienst-blau/
END:VEVENT
END:VCALENDAR